BEGIN:VCALENDAR
VERSION:2.0
PRODID:-//Library Market//iCal Export//EN
BEGIN:VEVENT
SUMMARY:Tiny Tales
UID:13340
DTSTAMP:20260422T101800Z
DTSTART:20260528T141500Z
DTEND:20260528T150000Z
LOCATION:100 Long Green Boulevard, Yorktown, VA 23693, United States
ROOM: Tabb Meeting Room
DESCRIPTION:Tiny Tales is a lapsit program for infants and their parents/c
 aregivers. Parents/caregivers will be introduced to simple songs, action r
 hymes and finger plays that they can use to interact and bond with their b
 aby at home. 
URL:https://yorkcountyva.librarycalendar.com/event/tiny-tales-13340
END:VEVENT
END:VCALENDAR
