BEGIN:VCALENDAR
VERSION:2.0
PRODID:-//Library Market//iCal Export//EN
BEGIN:VEVENT
SUMMARY:Toddler Tales
UID:13355
DTSTAMP:20260421T202300Z
DTSTART:20260527T141500Z
DTEND:20260527T144500Z
LOCATION:100 Long Green Boulevard, Yorktown, VA 23693, United States
ROOM: Tabb Meeting Room
DESCRIPTION:Toddler Tales is an introduction to story time for toddlers an
 d their parent/caregiver. The program is designed for children to experien
 ce literature through interactive play, songs and books while providing ea
 rly literacy information to parents and caregivers.   
URL:https://yorkcountyva.librarycalendar.com/event/toddler-tales-13355
END:VEVENT
END:VCALENDAR
