BEGIN:VCALENDAR
VERSION:2.0
PRODID:-//Library Market//iCal Export//EN
BEGIN:VEVENT
SUMMARY:Toddler Tales
UID:13372
DTSTAMP:20260421T095300Z
DTSTART:20260513T150000Z
DTEND:20260513T153000Z
LOCATION:100 Long Green Boulevard, Yorktown, VA 23693, United States
ROOM: Tabb Meeting Room
DESCRIPTION:Toddler Tales is an introduction to story time for toddlers an
 d their parent/caregiver. The program is designed for children to experien
 ce literature through interactive play, songs and books while providing ea
 rly literacy information to parents and caregivers.   
URL:https://yorkcountyva.librarycalendar.com/event/toddler-tales-13372
END:VEVENT
END:VCALENDAR
