BEGIN:VCALENDAR
VERSION:2.0
PRODID:-//Library Market//iCal Export//EN
BEGIN:VEVENT
SUMMARY:ABC Explorers
UID:13397
DTSTAMP:20260422T101800Z
DTSTART:20260514T203000Z
DTEND:20260514T211500Z
LOCATION:100 Long Green Boulevard, Yorktown, VA 23693, United States
ROOM: Tabb Meeting Room
DESCRIPTION:Children will participate in a Story time about Library and Li
 teracy skills using songs, poems, and stories.  There will be a craft inv
 olving the subject in the Story time.
URL:https://yorkcountyva.librarycalendar.com/event/abc-explorers-13397
END:VEVENT
END:VCALENDAR
