BEGIN:VCALENDAR
VERSION:2.0
PRODID:-//Library Market//iCal Export//EN
BEGIN:VEVENT
SUMMARY:Creation Station
UID:14277
DTSTAMP:20260421T202300Z
DTSTART:20260512T203000Z
DTEND:20260512T211500Z
LOCATION:100 Long Green Boulevard, Yorktown, VA 23693, United States
ROOM: Tabb Meeting Room
DESCRIPTION:Join us for a fun-filled hour of Arts &amp; Crafts where kids 
 can let their creativity run wild and make awesome masterpieces! With colo
 rful supplies and hands-on projects, every young artist is sure to have a 
 blast.  This months theme: Animal creations!
URL:https://yorkcountyva.librarycalendar.com/event/creation-station-14277
END:VEVENT
END:VCALENDAR
