BEGIN:VCALENDAR
VERSION:2.0
PRODID:-//Library Market//iCal Export//EN
BEGIN:VEVENT
SUMMARY:Science Saturday
UID:14490
DTSTAMP:20260421T202300Z
DTSTART:20260530T141500Z
DTEND:20260530T150000Z
LOCATION:8500 George Washington Memorial Hwy, Yorktown, VA 23692, United S
 tates
ROOM: Yorktown Youth Programs Room
DESCRIPTION:Come join us to explore the wonderful world of science! This s
 ession we will explore some wacky, weird, and wonderful animals. 
URL:https://yorkcountyva.librarycalendar.com/event/science-saturday-14490
END:VEVENT
END:VCALENDAR
