BEGIN:VCALENDAR
VERSION:2.0
PRODID:-//Library Market//iCal Export//EN
BEGIN:VEVENT
SUMMARY:Toddler Tales
UID:15484
DTSTAMP:20260421T202300Z
DTSTART:20260528T141500Z
DTEND:20260528T144500Z
LOCATION:8500 George Washington Memorial Hwy, Yorktown, VA 23692, United S
 tates
ROOM: Yorktown Youth Programs Room
DESCRIPTION:Toddler Tales is an introduction to story time for toddlers an
 d their parent/caregiver. The program is designed for children to experien
 ce literature through interactive play, songs and books while providing ea
 rly literacy information to parents and caregivers.   
URL:https://yorkcountyva.librarycalendar.com/event/toddler-tales-15484
END:VEVENT
END:VCALENDAR
