BEGIN:VCALENDAR
VERSION:2.0
PRODID:-//Library Market//iCal Export//EN
BEGIN:VEVENT
SUMMARY:Toddler Tales
UID:15485
DTSTAMP:20260420T120800Z
DTSTART:20260514T150000Z
DTEND:20260514T153000Z
LOCATION:8500 George Washington Memorial Hwy, Yorktown, VA 23692, United S
 tates
ROOM: Yorktown Youth Programs Room
DESCRIPTION:Toddler Tales is an introduction to story time for toddlers an
 d their parent/caregiver. The program is designed for children to experien
 ce literature through interactive play, songs and books while providing ea
 rly literacy information to parents and caregivers.   
URL:https://yorkcountyva.librarycalendar.com/event/toddler-tales-15485
END:VEVENT
END:VCALENDAR
