BEGIN:VCALENDAR
VERSION:2.0
PRODID:-//Library Market//iCal Export//EN
BEGIN:VEVENT
SUMMARY:How to Play D &amp; D
UID:17050
DTSTAMP:20260424T145100Z
DTSTART:20260508T213000Z
DTEND:20260508T233000Z
LOCATION:100 Long Green Boulevard, Yorktown, VA 23693, United States
ROOM: Tabb Program Room
DESCRIPTION:New to playing Dungeons and Dragons? Find out how to get start
 ed! Handbooks and character sheet will be available for teens looking to c
 raft their very own adventurers.
URL:https://yorkcountyva.librarycalendar.com/event/d-d-training-camp-17050
END:VEVENT
END:VCALENDAR
